BEGIN:VCALENDAR
VERSION:2.0
PRODID:-//Latin Salsa Band - Bookings, Photos, and More - ECPv6.15.20//NONSGML v1.0//EN
CALSCALE:GREGORIAN
METHOD:PUBLISH
X-WR-CALNAME:Latin Salsa Band - Bookings, Photos, and More
X-ORIGINAL-URL:https://swing-combo.com
X-WR-CALDESC:Events for Latin Salsa Band - Bookings, Photos, and More
REFRESH-INTERVAL;VALUE=DURATION:PT1H
X-Robots-Tag:noindex
X-PUBLISHED-TTL:PT1H
BEGIN:VTIMEZONE
TZID:UTC
BEGIN:STANDARD
TZOFFSETFROM:+0000
TZOFFSETTO:+0000
TZNAME:UTC
DTSTART:20250101T000000
END:STANDARD
END:VTIMEZONE
BEGIN:VEVENT
DTSTART;TZID=UTC:20260704T170000
DTEND;TZID=UTC:20260704T220000
DTSTAMP:20260425T163410
CREATED:20260314T155136Z
LAST-MODIFIED:20260314T155136Z
UID:204-1783184400-1783202400@swing-combo.com
SUMMARY:City of Plainfield\, NJ & Cedar Brook Park Presents
DESCRIPTION:4th of July Celebration with Live Latin Music for all to enjoy. \nCome and join us as promoter:  Norman Bradley presents \nNew Jersey’s hottest Latin Band LIVE from NJ ~ SWING COMBO \nMusic and activities begin at 5:00 PM and run until 9:00 PM @ Cedar Brook Park\, Plainfield\, NJ \nFlyer and future information to follow.
URL:https://swing-combo.com/event/city-of-plainfield-nj-cedar-brook-park-presents/
LOCATION:Cedar Brook Park\, Plainfield\, New Jersey
END:VEVENT
BEGIN:VEVENT
DTSTART;TZID=UTC:20260718T170000
DTEND;TZID=UTC:20260718T230000
DTSTAMP:20260425T163410
CREATED:20260314T161930Z
LAST-MODIFIED:20260314T161930Z
UID:208-1784394000-1784415600@swing-combo.com
SUMMARY:Birthday Celebration "Private Party"
DESCRIPTION:This is a private birthday celebration\, \ninformation is for band members and party invites only ” sorry ” \n6:00 PM – 12:00 AM
URL:https://swing-combo.com/event/birthday-celebration-private-party/
END:VEVENT
END:VCALENDAR