BEGIN:VCALENDAR
VERSION:2.0
PRODID:-//Latin Salsa Band - Bookings, Photos, and More - ECPv6.15.20//NONSGML v1.0//EN
CALSCALE:GREGORIAN
METHOD:PUBLISH
X-WR-CALNAME:Latin Salsa Band - Bookings, Photos, and More
X-ORIGINAL-URL:https://swing-combo.com
X-WR-CALDESC:Events for Latin Salsa Band - Bookings, Photos, and More
REFRESH-INTERVAL;VALUE=DURATION:PT1H
X-Robots-Tag:noindex
X-PUBLISHED-TTL:PT1H
BEGIN:VTIMEZONE
TZID:UTC
BEGIN:STANDARD
TZOFFSETFROM:+0000
TZOFFSETTO:+0000
TZNAME:UTC
DTSTART:20230101T000000
END:STANDARD
END:VTIMEZONE
BEGIN:VTIMEZONE
TZID:America/New_York
BEGIN:DAYLIGHT
TZOFFSETFROM:-0500
TZOFFSETTO:-0400
TZNAME:EDT
DTSTART:20240310T070000
END:DAYLIGHT
BEGIN:STANDARD
TZOFFSETFROM:-0400
TZOFFSETTO:-0500
TZNAME:EST
DTSTART:20241103T060000
END:STANDARD
BEGIN:DAYLIGHT
TZOFFSETFROM:-0500
TZOFFSETTO:-0400
TZNAME:EDT
DTSTART:20250309T070000
END:DAYLIGHT
BEGIN:STANDARD
TZOFFSETFROM:-0400
TZOFFSETTO:-0500
TZNAME:EST
DTSTART:20251102T060000
END:STANDARD
BEGIN:DAYLIGHT
TZOFFSETFROM:-0500
TZOFFSETTO:-0400
TZNAME:EDT
DTSTART:20260308T070000
END:DAYLIGHT
BEGIN:STANDARD
TZOFFSETFROM:-0400
TZOFFSETTO:-0500
TZNAME:EST
DTSTART:20261101T060000
END:STANDARD
END:VTIMEZONE
BEGIN:VEVENT
DTSTART;TZID=UTC:20260704T170000
DTEND;TZID=UTC:20260704T220000
DTSTAMP:20260425T163542
CREATED:20260314T155136Z
LAST-MODIFIED:20260314T155136Z
UID:204-1783184400-1783202400@swing-combo.com
SUMMARY:City of Plainfield\, NJ & Cedar Brook Park Presents
DESCRIPTION:4th of July Celebration with Live Latin Music for all to enjoy. \nCome and join us as promoter:  Norman Bradley presents \nNew Jersey’s hottest Latin Band LIVE from NJ ~ SWING COMBO \nMusic and activities begin at 5:00 PM and run until 9:00 PM @ Cedar Brook Park\, Plainfield\, NJ \nFlyer and future information to follow.
URL:https://swing-combo.com/event/city-of-plainfield-nj-cedar-brook-park-presents/
LOCATION:Cedar Brook Park\, Plainfield\, New Jersey
END:VEVENT
BEGIN:VEVENT
DTSTART;TZID=UTC:20260404T223000
DTEND;TZID=UTC:20260405T020000
DTSTAMP:20260425T163542
CREATED:20260308T002317Z
LAST-MODIFIED:20260308T003606Z
UID:199-1775341800-1775354400@swing-combo.com
SUMMARY:U-NEEKSOUNDS ENTERTAINMENT
DESCRIPTION:LATIN NIGHT ~ BAND PERFORMANCE ~ SWING COMBO \nSHOWTIME: 10:30 pm DATE: 4/4/26 \nDOORS OPEN 8:30 PM – 1:45 AM \nZPA CRYSTAL BALLROOM ~ DRESS TO IMPRESS \nFOOD AVAILABLE BY PURCHASE ~ TABLE REV: 201-492-7888
URL:https://swing-combo.com/event/u-neeksounds-entertainment/
LOCATION:ZPA Perth Amboy\, NJ\, 281 Grace Street\, Perth Amboy\, New Jersey\, 08861
END:VEVENT
BEGIN:VEVENT
DTSTART;TZID=UTC:20260115T180000
DTEND;TZID=UTC:20260115T230000
DTSTAMP:20260425T163542
CREATED:20250928T020802Z
LAST-MODIFIED:20250928T020802Z
UID:188-1768500000-1768518000@swing-combo.com
SUMMARY:HISPA 3 Kings Gala
DESCRIPTION:Thursday ~ January ~ 15 ~ 2025 ~ Additional Information to follow: \nShowtime: 6PM
URL:https://swing-combo.com/event/hispa-3-kings-gala/
END:VEVENT
BEGIN:VEVENT
DTSTART;TZID=UTC:20260103T180000
DTEND;TZID=UTC:20260103T233000
DTSTAMP:20260425T163542
CREATED:20251009T225721Z
LAST-MODIFIED:20251009T225721Z
UID:190-1767463200-1767483000@swing-combo.com
SUMMARY:Angels Birthday Bash (Private Party)
DESCRIPTION:Swing Combo to perform 2 sets \nBella Italia Restaurant\, Orange\, NJ
URL:https://swing-combo.com/event/angels-birthday-bash-private-party/
END:VEVENT
BEGIN:VEVENT
DTSTART;TZID=UTC:20251205T180000
DTEND;TZID=UTC:20251205T220000
DTSTAMP:20260425T163542
CREATED:20250928T020256Z
LAST-MODIFIED:20250928T020256Z
UID:186-1764957600-1764972000@swing-combo.com
SUMMARY:ALI Electrical Holiday Celebration
DESCRIPTION:Sorry for the inconvenience: Private Company Event \nFriday ~ 12 ~ 5 ~ 2025 ~ Antique Loft ~ 33 Newark Street ~ Hoboken\, NJ
URL:https://swing-combo.com/event/ali-electrical-holiday-celebration/
END:VEVENT
BEGIN:VEVENT
DTSTART;TZID=UTC:20251115T200000
DTEND;TZID=UTC:20251115T233000
DTSTAMP:20260425T163542
CREATED:20250925T162320Z
LAST-MODIFIED:20250927T201624Z
UID:183-1763236800-1763249400@swing-combo.com
SUMMARY:Private Event
DESCRIPTION:Perth Amboy Puerto Rican Association This date is scheduled for a private event \nInformation to follow \n 
URL:https://swing-combo.com/event/noma-restaurant/
END:VEVENT
BEGIN:VEVENT
DTSTART;TZID=UTC:20251010T130000
DTEND;TZID=UTC:20251010T160000
DTSTAMP:20260425T163542
CREATED:20250925T161508Z
LAST-MODIFIED:20250925T161508Z
UID:181-1760101200-1760112000@swing-combo.com
SUMMARY:PAHS Concert
DESCRIPTION:Please join us as we give a small concert for the PAHS students \nshowtime: 2:00 PM \nLocation: Auditorium PAHS \n931 Convery Blvd. \nPerth Amboy\, NJ
URL:https://swing-combo.com/event/pahs-concert/
END:VEVENT
BEGIN:VEVENT
DTSTART;TZID=UTC:20250920T190000
DTEND;TZID=UTC:20250920T230000
DTSTAMP:20260425T163542
CREATED:20250714T194054Z
LAST-MODIFIED:20250714T194515Z
UID:165-1758394800-1758409200@swing-combo.com
SUMMARY:The Cherry Valley Country Club Presents "Havana Night"
DESCRIPTION:Swing Combo is returning to this awesome event. \nSkillman\, NJ Showtime: 7:00 PM + \n 
URL:https://swing-combo.com/event/the-cherry-valley-country-club-presents-havana-night/
END:VEVENT
BEGIN:VEVENT
DTSTART;TZID=UTC:20250906T210000
DTEND;TZID=UTC:20250906T233000
DTSTAMP:20260425T163542
CREATED:20250810T145538Z
LAST-MODIFIED:20250810T145538Z
UID:178-1757192400-1757201400@swing-combo.com
SUMMARY:Captain's Cove Seaport Marina & Restaurant/Bar Presents
DESCRIPTION:Salsa On the Bay; DJ Marcus Presents: SWING COMBO LIVE \nMusic Starts at 9:00 PM 2 special performances by Swing Combo starting at around 9:45 PM. \n1 Bostwick Ave / Bridgeport\, CT \nLIVE LATIN MUSIC
URL:https://swing-combo.com/event/captains-cove-seaport-marina-restaurant-bar-presents/
END:VEVENT
BEGIN:VEVENT
DTSTART;TZID=UTC:20250822T183000
DTEND;TZID=UTC:20250822T200000
DTSTAMP:20260425T163542
CREATED:20250221T030111Z
LAST-MODIFIED:20250725T170319Z
UID:141-1755887400-1755892800@swing-combo.com
SUMMARY:Pert Amboy Arts Works Presents
DESCRIPTION:Swing Combo is returning by popular demand. This is an awesome concert for dancers and listeners. \nConcerts by the Bay \nRaritan River Breathtaking Background is the backdrop of this amazing concert. For all ages. \ntwo shows: 6:30 & 8:00 \n 
URL:https://swing-combo.com/event/pert-amboy-arts-works-presents/
END:VEVENT
BEGIN:VEVENT
DTSTART;TZID=UTC:20250816T000000
DTEND;TZID=UTC:20250816T235959
DTSTAMP:20260425T163542
CREATED:20250216T211642Z
LAST-MODIFIED:20250216T211642Z
UID:137-1755302400-1755388799@swing-combo.com
SUMMARY:Birthday Paarty
DESCRIPTION:This is a private Event: Perth Amboy\, NJ
URL:https://swing-combo.com/event/birthday-paarty/
END:VEVENT
BEGIN:VEVENT
DTSTART;TZID=UTC:20250803T150000
DTEND;TZID=UTC:20250803T200000
DTSTAMP:20260425T163542
CREATED:20250714T194845Z
LAST-MODIFIED:20250802T123642Z
UID:167-1754233200-1754251200@swing-combo.com
SUMMARY:Salsa on the Coney Island Boardwalk
DESCRIPTION:Swing Combo will be returning to this awesome event in Coney Island \nShowtimes: 3:15 PM & 4:30 \nAugust 3rd. Brooklyn\, NY pier \n 
URL:https://swing-combo.com/event/salsa-on-the-coney-island-boardwalk/
END:VEVENT
BEGIN:VEVENT
DTSTART;TZID=UTC:20250731T180000
DTEND;TZID=UTC:20250731T210000
DTSTAMP:20260425T163542
CREATED:20250514T144849Z
LAST-MODIFIED:20250514T144849Z
UID:159-1753984800-1753995600@swing-combo.com
SUMMARY:NY City of Queens Museum Concert
DESCRIPTION:A live concert open to the public; additional information to follow. Queens Museum is hosting this concert
URL:https://swing-combo.com/event/ny-city-of-queens-museum-concert/
END:VEVENT
BEGIN:VEVENT
DTSTART;TZID=UTC:20250720T160000
DTEND;TZID=UTC:20250720T200000
DTSTAMP:20260425T163542
CREATED:20250714T193250Z
LAST-MODIFIED:20250714T193250Z
UID:162-1753027200-1753041600@swing-combo.com
SUMMARY:City of Plainfield & DJ Storm presents
DESCRIPTION:THE STORM RECOVERY BENEFIT CONCERT\n7/20/2025 4 – 8 PM Sunday\nPlainfield High School Auditorium\n950 Park Ave\, Plainfield\, NJ
URL:https://swing-combo.com/event/city-of-plainfield-dj-storm-presents/
END:VEVENT
BEGIN:VEVENT
DTSTART;TZID=America/New_York:20250712T180000
DTEND;TZID=America/New_York:20250712T180000
DTSTAMP:20260425T163542
CREATED:20250427T154442Z
LAST-MODIFIED:20250427T154442Z
UID:152-1752343200-1752343200@swing-combo.com
SUMMARY:Birthday Celebration For Elizabeth Berdecia
DESCRIPTION:This is a private Event birthday celebration. \nTotowa\, Passaic County\, NJ \nFuture Information to follow
URL:https://swing-combo.com/event/birthday-celebration-for-elizabeth-berdecia/
END:VEVENT
BEGIN:VEVENT
DTSTART;TZID=UTC:20250704T180000
DTEND;TZID=UTC:20250704T210000
DTSTAMP:20260425T163542
CREATED:20250514T144357Z
LAST-MODIFIED:20250514T144357Z
UID:157-1751652000-1751662800@swing-combo.com
SUMMARY:Best Kept Secrets Entertainment LLC & City of Plainfield\, 4th of July Park Concert 2025
DESCRIPTION:Bring your best lounge chairs and dancing shoes; Swing Combo is in the HOUSE. \nBest Kept Secrets joined the City of Plainfield for this amazing concert. Swing Combo is alive and well and stepping our best sound ever. Join us as we perform our best original and cover tunes
URL:https://swing-combo.com/event/best-kept-secrets-entertainment-llc-city-of-plainfield-4th-of-july-park-concert-2025/
END:VEVENT
BEGIN:VEVENT
DTSTART;TZID=UTC:20250621T200000
DTEND;TZID=UTC:20250622T010000
DTSTAMP:20260425T163542
CREATED:20250221T024939Z
LAST-MODIFIED:20250221T024939Z
UID:139-1750536000-1750554000@swing-combo.com
SUMMARY:Harry Trinidad Y Breeze Latin Fusion Presents
DESCRIPTION:Salsa y DJ \nHarry Trinidad presents Swing Combo Salsa Band \nBreeze Latin Fusion Cuisine \n470 Howe Ave. \nShelton\, CT 06484 \nSwing Combo to perform 2 sets 8:00 PM till 1:00 AM
URL:https://swing-combo.com/event/harry-trinidad-y-breeze-latin-fusion-presents/
END:VEVENT
BEGIN:VEVENT
DTSTART;TZID=UTC:20250608T200000
DTEND;TZID=UTC:20250608T230000
DTSTAMP:20260425T163542
CREATED:20250514T142559Z
LAST-MODIFIED:20250514T142559Z
UID:155-1749412800-1749423600@swing-combo.com
SUMMARY:Perth Amboy Special Event
DESCRIPTION:Julio Cesar Sanabria is back again for another event. Ticket sales and additional information to follow \nDate: Sunday\, June 8th. 8:00 PM showtime
URL:https://swing-combo.com/event/perth-amboy-special-event/
END:VEVENT
BEGIN:VEVENT
DTSTART;TZID=UTC:20250601T110000
DTEND;TZID=UTC:20250601T180000
DTSTAMP:20260425T163542
CREATED:20250417T005046Z
LAST-MODIFIED:20250417T005046Z
UID:149-1748775600-1748800800@swing-combo.com
SUMMARY:Doco Entertainment & Snug Harbor
DESCRIPTION:Snug Harbor\, Staten Island\, NY \nDoco Entertainment Presents Live Salsa Festival \nSwing Combo has been invited to this awesome event. \nMore information to follow
URL:https://swing-combo.com/event/doco-entertainment-snug-harbor/
END:VEVENT
BEGIN:VEVENT
DTSTART;TZID=UTC:20250517T200000
DTEND;TZID=UTC:20250517T210000
DTSTAMP:20260425T163542
CREATED:20250221T030500Z
LAST-MODIFIED:20250514T145233Z
UID:143-1747512000-1747515600@swing-combo.com
SUMMARY:Clemens Place Concert Series Presents
DESCRIPTION:Clemens Place Concert Series presents Johnny Rivero con Swing Combo. \nNewark\, NJ Showtimes 8:00 PM & 9:00 PM
URL:https://swing-combo.com/event/clemens-place-concert-series-presents/
END:VEVENT
BEGIN:VEVENT
DTSTART;TZID=UTC:20250426T180000
DTEND;TZID=UTC:20250426T230000
DTSTAMP:20260425T163542
CREATED:20250404T140935Z
LAST-MODIFIED:20250404T140935Z
UID:147-1745690400-1745708400@swing-combo.com
SUMMARY:D&C Inc. Special Evening
DESCRIPTION:A special evening for a special guy\, Folks we will not tell and you don’t know. We are celebrating a special event for a special guy. \nThis is a private Event \n 
URL:https://swing-combo.com/event/dc-inc-special-evening/
END:VEVENT
BEGIN:VEVENT
DTSTART;TZID=UTC:20250329T000000
DTEND;TZID=UTC:20250329T235959
DTSTAMP:20260425T163542
CREATED:20250216T211118Z
LAST-MODIFIED:20250221T213507Z
UID:133-1743206400-1743292799@swing-combo.com
SUMMARY:Jeremy Bosch Presents
DESCRIPTION:Jeremy Bosch Presents Johnny Rivero con Swing Combo \nLocation: Bronx\, NY additional info to follow.
URL:https://swing-combo.com/event/jeremy-bosch-presents/
END:VEVENT
BEGIN:VEVENT
DTSTART;TZID=UTC:20250322T000000
DTEND;TZID=UTC:20250322T235959
DTSTAMP:20260425T163542
CREATED:20250216T210724Z
LAST-MODIFIED:20250216T210724Z
UID:131-1742601600-1742687999@swing-combo.com
SUMMARY:Salsa Event
DESCRIPTION:Information to Follow: Save the date
URL:https://swing-combo.com/event/salsa-event/
END:VEVENT
BEGIN:VEVENT
DTSTART;TZID=UTC:20250116T180000
DTEND;TZID=UTC:20250116T230000
DTSTAMP:20260425T163542
CREATED:20241129T182700Z
LAST-MODIFIED:20241129T182700Z
UID:128-1737050400-1737068400@swing-combo.com
SUMMARY:HISPA 3 Kings Banquet 2025 Presents
DESCRIPTION:Orquesta Swing Combo back by popular demand. This event requires ticket purchase in advance. Please Visit HISPA website for more information on tickets sales. www.hispa.org/
URL:https://swing-combo.com/event/hispa-3-kings-banquet-2025-presents/
LOCATION:Pines Manor\, Edison\,\, New Jersey
END:VEVENT
BEGIN:VEVENT
DTSTART;TZID=UTC:20241231T210000
DTEND;TZID=UTC:20250101T020000
DTSTAMP:20260425T163542
CREATED:20241129T181722Z
LAST-MODIFIED:20241129T181722Z
UID:126-1735678800-1735696800@swing-combo.com
SUMMARY:Puerto Rican Club of Dover\, NJ Presents
DESCRIPTION:New Years Bash 2024 – 2025 con Orquesta Swing Combo ~ Reservations are required for the evening. \nShowtimes are 10:15 & 12:45 PM
URL:https://swing-combo.com/event/puerto-rican-club-of-dover-nj-presents/
END:VEVENT
BEGIN:VEVENT
DTSTART;TZID=UTC:20241227T210000
DTEND;TZID=UTC:20241227T230000
DTSTAMP:20260425T163542
CREATED:20241129T180929Z
LAST-MODIFIED:20241129T180929Z
UID:124-1735333200-1735340400@swing-combo.com
SUMMARY:Mauras Restaurant Presents Salsa Fridays
DESCRIPTION:Back by popular demand: Swing Combo . Showtimes: 9:00 PM and 11:00 PM  Free entrance\, reservations required but not needed. Cozy evening with your special one or family and friends celebrating birthdays or just celebrating life come and enjoy yourself at this excellent restaurante as Swing Combo will make your evening more special with Salsa musica on the menu.
URL:https://swing-combo.com/event/mauras-restaurant-presents-salsa-fridays/
END:VEVENT
BEGIN:VEVENT
DTSTART;TZID=UTC:20241207T180000
DTEND;TZID=UTC:20241207T230000
DTSTAMP:20260425T163542
CREATED:20241029T161639Z
LAST-MODIFIED:20241029T161639Z
UID:112-1733594400-1733612400@swing-combo.com
SUMMARY:Edwin & Rosalia Presents 2024 Christmas Gala @ ZPA Banquet Center
DESCRIPTION:Folks this party is off the hook\, a ticket is needed to enter and tickets are going fast. Food\, Drinks\, and many prizes are at the top of the menu.
URL:https://swing-combo.com/event/edwin-rosalia-presents-2024-christmas-gala-zpa-banquet-center/
LOCATION:ZPA Perth Amboy\, NJ\, 281 Grace Street\, Perth Amboy\, New Jersey\, 08861
END:VEVENT
BEGIN:VEVENT
DTSTART;TZID=UTC:20241206T180000
DTEND;TZID=UTC:20241206T230000
DTSTAMP:20260425T163542
CREATED:20241028T231113Z
LAST-MODIFIED:20241029T120156Z
UID:96-1733508000-1733526000@swing-combo.com
SUMMARY:Ali Electric Contractor; Inc. Presents
DESCRIPTION:2024 Christmas Gala
URL:https://swing-combo.com/event/new/
LOCATION:Christmas Party\, The Armory Restaurant\, Perth Amboy\, NJ\, 08861\, United States
END:VEVENT
BEGIN:VEVENT
DTSTART;TZID=UTC:20241101T200000
DTEND;TZID=UTC:20241101T233000
DTSTAMP:20260425T163542
CREATED:20241029T155744Z
LAST-MODIFIED:20241029T155744Z
UID:109-1730491200-1730503800@swing-combo.com
SUMMARY:Gametime Sportz Bar Presents Salsa Friday
DESCRIPTION:Gametime Sportz Bar presents Swing Combo \nFriday\, November 1st. “LIVE SALSA BAND” \n500 Gateway Blvd. \nWestville\, NJ
URL:https://swing-combo.com/event/gametime-sportz-bar-presents-salsa-friday/
LOCATION:500 gateway blvd\, westville\, nj\, 500 Gateway Blvd.\, Westville\,\, NJ\, 08091\, United States
END:VEVENT
END:VCALENDAR