BEGIN:VCALENDAR
VERSION:2.0
PRODID:-//Latin Salsa Band - Bookings, Photos, and More - ECPv6.15.20//NONSGML v1.0//EN
CALSCALE:GREGORIAN
METHOD:PUBLISH
X-ORIGINAL-URL:https://swing-combo.com
X-WR-CALDESC:Events for Latin Salsa Band - Bookings, Photos, and More
REFRESH-INTERVAL;VALUE=DURATION:PT1H
X-Robots-Tag:noindex
X-PUBLISHED-TTL:PT1H
BEGIN:VTIMEZONE
TZID:UTC
BEGIN:STANDARD
TZOFFSETFROM:+0000
TZOFFSETTO:+0000
TZNAME:UTC
DTSTART:20240101T000000
END:STANDARD
END:VTIMEZONE
BEGIN:VEVENT
DTSTART;TZID=UTC:20250720T160000
DTEND;TZID=UTC:20250720T200000
DTSTAMP:20260426T021809
CREATED:20250714T193250Z
LAST-MODIFIED:20250714T193250Z
UID:162-1753027200-1753041600@swing-combo.com
SUMMARY:City of Plainfield & DJ Storm presents
DESCRIPTION:THE STORM RECOVERY BENEFIT CONCERT\n7/20/2025 4 – 8 PM Sunday\nPlainfield High School Auditorium\n950 Park Ave\, Plainfield\, NJ
URL:https://swing-combo.com/event/city-of-plainfield-dj-storm-presents/
END:VEVENT
END:VCALENDAR