BEGIN:VCALENDAR
VERSION:2.0
PRODID:-//Latin Salsa Band - Bookings, Photos, and More - ECPv6.15.20//NONSGML v1.0//EN
CALSCALE:GREGORIAN
METHOD:PUBLISH
X-WR-CALNAME:Latin Salsa Band - Bookings, Photos, and More
X-ORIGINAL-URL:https://swing-combo.com
X-WR-CALDESC:Events for Latin Salsa Band - Bookings, Photos, and More
REFRESH-INTERVAL;VALUE=DURATION:PT1H
X-Robots-Tag:noindex
X-PUBLISHED-TTL:PT1H
BEGIN:VTIMEZONE
TZID:UTC
BEGIN:STANDARD
TZOFFSETFROM:+0000
TZOFFSETTO:+0000
TZNAME:UTC
DTSTART:20240101T000000
END:STANDARD
END:VTIMEZONE
BEGIN:VEVENT
DTSTART;TZID=UTC:20250704T180000
DTEND;TZID=UTC:20250704T210000
DTSTAMP:20260426T021601
CREATED:20250514T144357Z
LAST-MODIFIED:20250514T144357Z
UID:157-1751652000-1751662800@swing-combo.com
SUMMARY:Best Kept Secrets Entertainment LLC & City of Plainfield\, 4th of July Park Concert 2025
DESCRIPTION:Bring your best lounge chairs and dancing shoes; Swing Combo is in the HOUSE. \nBest Kept Secrets joined the City of Plainfield for this amazing concert. Swing Combo is alive and well and stepping our best sound ever. Join us as we perform our best original and cover tunes
URL:https://swing-combo.com/event/best-kept-secrets-entertainment-llc-city-of-plainfield-4th-of-july-park-concert-2025/
END:VEVENT
END:VCALENDAR