BEGIN:VCALENDAR
VERSION:2.0
PRODID:-//Latin Salsa Band - Bookings, Photos, and More - ECPv6.15.20//NONSGML v1.0//EN
CALSCALE:GREGORIAN
METHOD:PUBLISH
X-WR-CALNAME:Latin Salsa Band - Bookings, Photos, and More
X-ORIGINAL-URL:https://swing-combo.com
X-WR-CALDESC:Events for Latin Salsa Band - Bookings, Photos, and More
REFRESH-INTERVAL;VALUE=DURATION:PT1H
X-Robots-Tag:noindex
X-PUBLISHED-TTL:PT1H
BEGIN:VTIMEZONE
TZID:UTC
BEGIN:STANDARD
TZOFFSETFROM:+0000
TZOFFSETTO:+0000
TZNAME:UTC
DTSTART:20240101T000000
END:STANDARD
END:VTIMEZONE
BEGIN:VEVENT
DTSTART;TZID=UTC:20250621T200000
DTEND;TZID=UTC:20250622T010000
DTSTAMP:20260426T033759
CREATED:20250221T024939Z
LAST-MODIFIED:20250221T024939Z
UID:139-1750536000-1750554000@swing-combo.com
SUMMARY:Harry Trinidad Y Breeze Latin Fusion Presents
DESCRIPTION:Salsa y DJ \nHarry Trinidad presents Swing Combo Salsa Band \nBreeze Latin Fusion Cuisine \n470 Howe Ave. \nShelton\, CT 06484 \nSwing Combo to perform 2 sets 8:00 PM till 1:00 AM
URL:https://swing-combo.com/event/harry-trinidad-y-breeze-latin-fusion-presents/
END:VEVENT
END:VCALENDAR