BEGIN:VCALENDAR
VERSION:2.0
PRODID:-//Latin Salsa Band - Bookings, Photos, and More - ECPv6.15.20//NONSGML v1.0//EN
CALSCALE:GREGORIAN
METHOD:PUBLISH
X-ORIGINAL-URL:https://swing-combo.com
X-WR-CALDESC:Events for Latin Salsa Band - Bookings, Photos, and More
REFRESH-INTERVAL;VALUE=DURATION:PT1H
X-Robots-Tag:noindex
X-PUBLISHED-TTL:PT1H
BEGIN:VTIMEZONE
TZID:UTC
BEGIN:STANDARD
TZOFFSETFROM:+0000
TZOFFSETTO:+0000
TZNAME:UTC
DTSTART:20240101T000000
END:STANDARD
END:VTIMEZONE
BEGIN:VEVENT
DTSTART;TZID=UTC:20250601T110000
DTEND;TZID=UTC:20250601T180000
DTSTAMP:20260426T033926
CREATED:20250417T005046Z
LAST-MODIFIED:20250417T005046Z
UID:149-1748775600-1748800800@swing-combo.com
SUMMARY:Doco Entertainment & Snug Harbor
DESCRIPTION:Snug Harbor\, Staten Island\, NY \nDoco Entertainment Presents Live Salsa Festival \nSwing Combo has been invited to this awesome event. \nMore information to follow
URL:https://swing-combo.com/event/doco-entertainment-snug-harbor/
END:VEVENT
END:VCALENDAR